BEGIN:VCALENDAR
VERSION:2.0
PRODID:-//eventon.com NONSGML v1.0//EN
CALSCALE:GREGORIAN
METHOD:PUBLISH
BEGIN:VEVENT
UID:69e8874c0190a
DTSTAMP:20260422T083108Z
DTSTART:20231005T070000Z
DTEND:20231005T150000Z
LOCATION:
SUMMARY:SecNumEco Vesoul
DESCRIPTION:SecNumEco Vesoul\nhttps://www.csirt-bfc.fr/events/secnumeco-ves
 oul/
URL:https://www.csirt-bfc.fr/events/secnumeco-vesoul/
END:VEVENT
END:VCALENDAR