BEGIN:VCALENDAR
VERSION:2.0
PRODID:-//eventon.com NONSGML v1.0//EN
CALSCALE:GREGORIAN
METHOD:PUBLISH
BEGIN:VEVENT
UID:69eb5e3b6ae1f
DTSTAMP:20260424T121243Z
DTSTART:20240430T120000Z
DTEND:20240430T150000Z
LOCATION:
SUMMARY:SecNumeco de Saône-et-Loire
DESCRIPTION:SecNumeco de Saône-et-Loire\nhttps://www.csirt-bfc.fr/events/s
 ecnumeco-de-saone-et-loire/
URL:https://www.csirt-bfc.fr/events/secnumeco-de-saone-et-loire/
END:VEVENT
END:VCALENDAR